BEGIN:VCALENDAR
VERSION:2.0
PRODID:-//WILD TOADS - ECPv6.15.20//NONSGML v1.0//EN
CALSCALE:GREGORIAN
METHOD:PUBLISH
X-WR-CALNAME:WILD TOADS
X-ORIGINAL-URL:https://wildtoads.net
X-WR-CALDESC:Events for WILD TOADS
REFRESH-INTERVAL;VALUE=DURATION:PT1H
X-Robots-Tag:noindex
X-PUBLISHED-TTL:PT1H
BEGIN:VTIMEZONE
TZID:UTC
BEGIN:STANDARD
TZOFFSETFROM:+0000
TZOFFSETTO:+0000
TZNAME:UTC
DTSTART:20220101T000000
END:STANDARD
END:VTIMEZONE
BEGIN:VEVENT
DTSTART;TZID=UTC:20240607T190000
DTEND;TZID=UTC:20240607T220000
DTSTAMP:20260423T210326
CREATED:20240217T170035Z
LAST-MODIFIED:20240217T170038Z
UID:486-1717786800-1717797600@wildtoads.net
SUMMARY:58 West Presents: Wild Toads – Food\, Drink\, Live Music!
DESCRIPTION:
URL:https://wildtoads.net/event/58-west-presents-wild-toads-food-drink-live-music-2/
LOCATION:58 West\, 58 W. 2nd St.\, Logan\, OH\, 43138\, United States
END:VEVENT
BEGIN:VEVENT
DTSTART;TZID=UTC:20240527T130000
DTEND;TZID=UTC:20240527T160000
DTSTAMP:20260423T210326
CREATED:20231220T223330Z
LAST-MODIFIED:20231220T223334Z
UID:413-1716814800-1716825600@wildtoads.net
SUMMARY:Brewery 33 Presents: Wild Toads – Memorial Day Party - Music\, Food\, Fun!
DESCRIPTION:Celebrate the beginning of summer with drinks and live entertainment! Beer TOADALLY tastes better with Live Music 🙂 \n\n\n\n\n12684 College Prospect Drive Suite ALogan\, OH 43138United States\n\n\n\n(740) 385-6033
URL:https://wildtoads.net/event/brewery-33-presents-wild-toads-memorial-day-party-music-food-fun/
LOCATION:OH
END:VEVENT
BEGIN:VEVENT
DTSTART;TZID=UTC:20240524T180000
DTEND;TZID=UTC:20240524T210000
DTSTAMP:20260423T210326
CREATED:20240518T224413Z
LAST-MODIFIED:20240518T224416Z
UID:549-1716573600-1716584400@wildtoads.net
SUMMARY:Wild Toads Live at Big Stan's Bar and Grill
DESCRIPTION:Memorial Day weekend kickoff party!! \n\n\n\n\n\n\n\n\n\nBEER. MALT BEVERAGES. FOOD. LIVE HITS FROM 60s to 2020s. ‘NUFF SAID!
URL:https://wildtoads.net/event/wild-toads-live-at-big-stans-bar-and-grill/
LOCATION:Big Stan’s Bar and Grill\, 8635 Blackbird Ln\, Thornville\, Ohio\, 43076
END:VEVENT
BEGIN:VEVENT
DTSTART;TZID=UTC:20240517T190000
DTEND;TZID=UTC:20240517T220000
DTSTAMP:20260423T210326
CREATED:20240318T132331Z
LAST-MODIFIED:20240318T132334Z
UID:518-1715972400-1715983200@wildtoads.net
SUMMARY:Wild Toads @ Fat Cat Pizza
DESCRIPTION:Enjoy some pizza\, brews\, and tunes!
URL:https://wildtoads.net/event/wild-toads-fat-cat-pizza/
LOCATION:1448 Ety Pointe Drive Lancaster\, OH 43130
END:VEVENT
BEGIN:VEVENT
DTSTART;TZID=UTC:20240503T190000
DTEND;TZID=UTC:20240503T220000
DTSTAMP:20260423T210326
CREATED:20240217T165024Z
LAST-MODIFIED:20240217T165027Z
UID:484-1714762800-1714773600@wildtoads.net
SUMMARY:58 West Presents: Wild Toads Live!
DESCRIPTION:Wild Toads will play toadally fun music…hop on over and have some food and drink!
URL:https://wildtoads.net/event/58-west-presents-wild-toads-live/
LOCATION:58 West\, 58 W. 2nd St.\, Logan\, OH\, 43138\, United States
END:VEVENT
BEGIN:VEVENT
DTSTART;TZID=UTC:20240309T150000
DTEND;TZID=UTC:20240309T180000
DTSTAMP:20260423T210326
CREATED:20240117T170911Z
LAST-MODIFIED:20240117T170914Z
UID:451-1709996400-1710007200@wildtoads.net
SUMMARY:Brewery 33 Presents: Wild Toads – Live Party Music\, Food\, Fun!
DESCRIPTION:Early Spring Beers and Music!!
URL:https://wildtoads.net/event/brewery-33-presents-wild-toads-live-party-music-food-fun-2/
LOCATION:Brewery 33\, 12684 College Prospect Dr.\, Logan\, 43138
END:VEVENT
BEGIN:VEVENT
DTSTART;TZID=UTC:20240301T191500
DTEND;TZID=UTC:20240301T220000
DTSTAMP:20260423T210326
CREATED:20240217T164232Z
LAST-MODIFIED:20240217T171617Z
UID:476-1709320500-1709330400@wildtoads.net
SUMMARY:Fat Cat Pizza Presents: Wild Toads – Live Party Music\, Food\, Fun!
DESCRIPTION:Join us for an Early Spring evening of tunes\, pizza\, and drinks!
URL:https://wildtoads.net/event/fat-cat-pizza-presents-wild-toads-live-party-music-food-fun/
LOCATION:Fat Cat Pizza\, 1448 Ety Pointe Dr NW\, Lancaster\, Ohio\, 43130\, United States
END:VEVENT
BEGIN:VEVENT
DTSTART;TZID=UTC:20240210T150000
DTEND;TZID=UTC:20240210T180000
DTSTAMP:20260423T210326
CREATED:20240117T161856Z
LAST-MODIFIED:20240117T172249Z
UID:434-1707577200-1707588000@wildtoads.net
SUMMARY:Brewery 33 Presents: Wild Toads – Live Party Music\, Food\, Fun!
DESCRIPTION:Join us for a PRE-VALENTINES DAY afternoon delight…or just some tunes and some beer!
URL:https://wildtoads.net/event/brewery-33-presents-wild-toads-live-party-music-food-fun/
LOCATION:Brewery 33\, 12684 College Prospect Dr.\, Logan\, 43138
END:VEVENT
BEGIN:VEVENT
DTSTART;TZID=UTC:20240112T200000
DTEND;TZID=UTC:20240112T230000
DTSTAMP:20260423T210326
CREATED:20231212T194312Z
LAST-MODIFIED:20231220T220254Z
UID:401-1705089600-1705100400@wildtoads.net
SUMMARY:The Flats Pub Presents: Wild Toads – Live Party Music\, Food\, Fun!
DESCRIPTION:Join us for drinks and live entertainment! \n\n\n\n\n113 North StMorenci\, MI 49256United States\n\n\n\n517-458-6469\n\n\n\nflatspub@gmail.com
URL:https://wildtoads.net/event/the-flats-pub-presents-wild-toads-live-party-music-food-fun/
LOCATION:OH
END:VEVENT
BEGIN:VEVENT
DTSTART;TZID=UTC:20231028T180000
DTEND;TZID=UTC:20231028T210000
DTSTAMP:20260423T210326
CREATED:20231013T151654Z
LAST-MODIFIED:20231013T152940Z
UID:251-1698516000-1698526800@wildtoads.net
SUMMARY:Java 13 Presents: Wild Toads - Live Party Music\, Food\, Fun!
DESCRIPTION:Wild Toads will play toadally fun music…did anyone say MONSTER MASH?\n\n\n\nHits from the 50s to the 2020s.\n\n\n\nJoin us for dinner and a drink or two!
URL:https://wildtoads.net/event/java-13-presents-wild-toads-live-party-music-food-fun-2/
LOCATION:Java 13\, 109 N. Columbus Street\, Somerset\, Ohio\, 43783\, United States
END:VEVENT
BEGIN:VEVENT
DTSTART;TZID=UTC:20231022T140000
DTEND;TZID=UTC:20231022T170000
DTSTAMP:20260423T210326
CREATED:20231013T153746Z
LAST-MODIFIED:20231013T153750Z
UID:260-1697983200-1697994000@wildtoads.net
SUMMARY:58 West Presents: Wild Toads – Food\, Drink\, Live Music!
DESCRIPTION:Wild Toads will play toadally fun music…did anyone say MONSTER MASH?\n\n\n\nHits from the 50s to the 2020s.\n\n\n\nJoin us for brunch and a drink or two!
URL:https://wildtoads.net/event/58-west-presents-wild-toads-food-drink-live-music/
LOCATION:OH
END:VEVENT
BEGIN:VEVENT
DTSTART;TZID=UTC:20231014T200000
DTEND;TZID=UTC:20231014T230000
DTSTAMP:20260423T210326
CREATED:20230908T190708Z
LAST-MODIFIED:20230908T192101Z
UID:223-1697313600-1697324400@wildtoads.net
SUMMARY:The Flats Pub Presents: Wild Toads - Live Party Music\, Food\, Fun!
DESCRIPTION:
URL:https://wildtoads.net/event/the-flats-pub-presents-wild-toads-live-party-music/
LOCATION:The Flats Pub\, 113 North St\, Morenci\, Michigan\, 49256\, United States
ATTACH;FMTTYPE=image/jpeg:https://wildtoads.net/wp-content/uploads/2023/09/Flats-Pub.jpg
END:VEVENT
BEGIN:VEVENT
DTSTART;TZID=UTC:20230923T190000
DTEND;TZID=UTC:20230923T220000
DTSTAMP:20260423T210326
CREATED:20230625T191727Z
LAST-MODIFIED:20230908T182906Z
UID:159-1695495600-1695506400@wildtoads.net
SUMMARY:58 West Presents: Wild Toads – Food\, Drink\, Live Music!
DESCRIPTION:Wild Toads will play toadally fun music on Friday\, September 23\, from 7PM to 10 PM.\nHits from the 50s to the 2020s.\nJoin us for dinner and a drink or two!
URL:https://wildtoads.net/event/58-west-a-restaurant-winery-brewery-and-distillery-in-logan-oh-2/
LOCATION:58 West\, 58 W. 2nd St.\, Logan\, OH\, 43138\, United States
ATTACH;FMTTYPE=image/webp:https://wildtoads.net/wp-content/uploads/2023/06/IMG_0618-1920w.webp
END:VEVENT
BEGIN:VEVENT
DTSTART;TZID=UTC:20230917T150000
DTEND;TZID=UTC:20230917T180000
DTSTAMP:20260423T210326
CREATED:20230906T003053Z
LAST-MODIFIED:20230908T184940Z
UID:196-1694962800-1694973600@wildtoads.net
SUMMARY:Logan Moose #873
DESCRIPTION:Live Party Music with WILD TOADS. \nSunday\, 9/17/23. \n3PM to 6PM.
URL:https://wildtoads.net/event/logan-moose-873/
LOCATION:701 E Front St\, Logan\, OH 43138\, United States
ATTACH;FMTTYPE=image/jpeg:https://wildtoads.net/wp-content/uploads/2023/09/1241625295929450378-scaled.jpg
END:VEVENT
BEGIN:VEVENT
DTSTART;TZID=UTC:20230819T190000
DTEND;TZID=UTC:20230819T220000
DTSTAMP:20260423T210326
CREATED:20230625T190353Z
LAST-MODIFIED:20230625T192249Z
UID:175-1692471600-1692482400@wildtoads.net
SUMMARY:58 West Presents: Wild Toads – Food\, Drink\, Live Music!
DESCRIPTION:Wild Toads will play toadally fun music on Friday\, August 19\, from 7PM to 10 PM.\nHits from the 50s to the 2020s.\nJoin us for dinner and a drink or two!
URL:https://wildtoads.net/event/58-west-a-restaurant-winery-brewery-and-distillery-in-logan-oh/
LOCATION:58 West\, 58 W. 2nd St.\, Logan\, OH\, 43138\, United States
ATTACH;FMTTYPE=image/webp:https://wildtoads.net/wp-content/uploads/2023/06/IMG_0618-1920w.webp
END:VEVENT
BEGIN:VEVENT
DTSTART;TZID=UTC:20230722T190000
DTEND;TZID=UTC:20230722T220000
DTSTAMP:20260423T210326
CREATED:20230624T202532Z
LAST-MODIFIED:20230908T180801Z
UID:161-1690052400-1690063200@wildtoads.net
SUMMARY:58 West Presents: Wild Toads - Food\, Drink\, Live Music!
DESCRIPTION:Wild Toads will play toadally fun music on Friday\, July 22\, from 7PM to 10 PM.\nHits from the 50s to the 2020s.\nJoin us for dinner and a drink or two!
URL:https://wildtoads.net/event/wildtoads-net-events/
LOCATION:58 West\, 58 W. 2nd St.\, Logan\, OH\, 43138\, United States
ATTACH;FMTTYPE=image/webp:https://wildtoads.net/wp-content/uploads/2023/06/IMG_0618-1920w.webp
END:VEVENT
END:VCALENDAR