BEGIN:VCALENDAR
VERSION:2.0
PRODID:-//WILD TOADS - ECPv6.15.20//NONSGML v1.0//EN
CALSCALE:GREGORIAN
METHOD:PUBLISH
X-WR-CALNAME:WILD TOADS
X-ORIGINAL-URL:https://wildtoads.net
X-WR-CALDESC:Events for WILD TOADS
REFRESH-INTERVAL;VALUE=DURATION:PT1H
X-Robots-Tag:noindex
X-PUBLISHED-TTL:PT1H
BEGIN:VTIMEZONE
TZID:UTC
BEGIN:STANDARD
TZOFFSETFROM:+0000
TZOFFSETTO:+0000
TZNAME:UTC
DTSTART:20230101T000000
END:STANDARD
END:VTIMEZONE
BEGIN:VEVENT
DTSTART;TZID=UTC:20251031T190000
DTEND;TZID=UTC:20251031T220000
DTSTAMP:20260423T165031
CREATED:20241106T174044Z
LAST-MODIFIED:20241106T191228Z
UID:740-1761937200-1761948000@wildtoads.net
SUMMARY:Fat Cat Pizza with Wild Toads!
DESCRIPTION:Halloween pizza\, BEER\, and tunes. MONSTER MASH is on the list!!
URL:https://wildtoads.net/event/fat-cat-pizza-with-wild-toads-3/
LOCATION:Fat Cat Pizza\, 1448 Ety Pointe Dr NW\, Lancaster\, Ohio\, 43130\, United States
END:VEVENT
BEGIN:VEVENT
DTSTART;TZID=UTC:20251024T200000
DTEND;TZID=UTC:20251024T230000
DTSTAMP:20260423T165031
CREATED:20241212T180015Z
LAST-MODIFIED:20241212T180048Z
UID:767-1761336000-1761346800@wildtoads.net
SUMMARY:Old Bill Bailey’s and Wild Toads!
DESCRIPTION:This is such a cool place in Lancaster. Great venue to watch music and party with friends! Good food too. The Wild Toads love playing Old Bill Bailey’s!
URL:https://wildtoads.net/event/old-bill-baileys-and-wild-toads-3/
LOCATION:Old Bill Bailey’s\, 200 Harrison Ave\, Lancaster\, Ohio\, United States
END:VEVENT
BEGIN:VEVENT
DTSTART;TZID=UTC:20250926T180000
DTEND;TZID=UTC:20250926T210000
DTSTAMP:20260423T165031
CREATED:20250722T125111Z
LAST-MODIFIED:20250722T125116Z
UID:859-1758909600-1758920400@wildtoads.net
SUMMARY:Buckeye Lake Moose 2434
DESCRIPTION:Wild Toads are psyched to play for the Moose Lodge in Thornville!
URL:https://wildtoads.net/event/buckeye-lake-moose-2434/
LOCATION:Buckeye Lake Moose Lodge 2434\, 8985 Blackbird Ln\, Thornville\, Ohio\, 43076\, Oman
END:VEVENT
BEGIN:VEVENT
DTSTART;TZID=UTC:20250829T190000
DTEND;TZID=UTC:20250829T220000
DTSTAMP:20260423T165031
CREATED:20250202T232147Z
LAST-MODIFIED:20250202T232312Z
UID:824-1756494000-1756504800@wildtoads.net
SUMMARY:58 West Presents: Wild Toads – Food\, Drink\, Live Music!
DESCRIPTION:Enjoy party music with the WILD TOADS…Great food and drinks in Logan\, OH!!
URL:https://wildtoads.net/event/58-west-presents-wild-toads-food-drink-live-music-7/
LOCATION:58 West\, 58 W. 2nd St.\, Logan\, OH\, 43138\, United States
END:VEVENT
BEGIN:VEVENT
DTSTART;TZID=UTC:20250726T200000
DTEND;TZID=UTC:20250726T230000
DTSTAMP:20260423T165031
CREATED:20241212T175738Z
LAST-MODIFIED:20241212T175741Z
UID:765-1753560000-1753570800@wildtoads.net
SUMMARY:Old Bill Bailey’s and Wild Toads!
DESCRIPTION:This is such a cool place in Lancaster. Great venue to watch music and party with friends! Good food too. The Wild Toads love playing Old Bill Bailey’s!
URL:https://wildtoads.net/event/old-bill-baileys-and-wild-toads-2/
LOCATION:Old Bill Bailey’s\, 200 Harrison Ave\, Lancaster\, Ohio\, United States
END:VEVENT
BEGIN:VEVENT
DTSTART;TZID=UTC:20250718T190000
DTEND;TZID=UTC:20250718T220000
DTSTAMP:20260423T165031
CREATED:20250202T231856Z
LAST-MODIFIED:20250203T000157Z
UID:822-1752865200-1752876000@wildtoads.net
SUMMARY:58 West Presents: Wild Toads – Food\, Drink\, Live Music!
DESCRIPTION:Enjoy party music with the WILD TOADS…Great food and drinks in Logan\, OH!!
URL:https://wildtoads.net/event/58-west-presents-wild-toads-food-drink-live-music-6/
LOCATION:58 West\, 58 W. 2nd St.\, Logan\, OH\, 43138\, United States
END:VEVENT
BEGIN:VEVENT
DTSTART;TZID=UTC:20250705T180000
DTEND;TZID=UTC:20250705T210000
DTSTAMP:20260423T165031
CREATED:20250614T010828Z
LAST-MODIFIED:20250614T170552Z
UID:836-1751738400-1751749200@wildtoads.net
SUMMARY:Mill Dam Corner Grille - July 5th!
DESCRIPTION:Get some red\, white\, and boom…we got the music ready!
URL:https://wildtoads.net/event/mill-dam-corner-grille-july-5th/
LOCATION:Mill Dam Corner Grille\, 3982 National Rd SE\, Hebron\, Ohio\, 43025\, United States
END:VEVENT
BEGIN:VEVENT
DTSTART;TZID=UTC:20250627T190000
DTEND;TZID=UTC:20250627T220000
DTSTAMP:20260423T165031
CREATED:20250202T225840Z
LAST-MODIFIED:20250202T231302Z
UID:812-1751050800-1751061600@wildtoads.net
SUMMARY:58 West Presents: Wild Toads – Food\, Drink\, Live Music!
DESCRIPTION:Enjoy party music with the WILD TOADS…Great food and drinks in Logan\, OH!!
URL:https://wildtoads.net/event/58-west-presents-wild-toads-food-drink-live-music-4/
LOCATION:58 West\, 58 W. 2nd St.\, Logan\, OH\, 43138\, United States
END:VEVENT
BEGIN:VEVENT
DTSTART;TZID=UTC:20250625T180000
DTEND;TZID=UTC:20250625T210000
DTSTAMP:20260423T165031
CREATED:20250312T163554Z
LAST-MODIFIED:20250612T120317Z
UID:828-1750874400-1750885200@wildtoads.net
SUMMARY:Spaghetti with Wild Toads!
DESCRIPTION:Just kidding\, no toads on the menu. Just great food and live party music. Come enjoy!
URL:https://wildtoads.net/event/spaghetti-with-wild-toads/
LOCATION:Thiago’s Italian Kitchen and Bar\, 609 Mill St\,\, New Lexington
END:VEVENT
BEGIN:VEVENT
DTSTART;TZID=UTC:20250621T150000
DTEND;TZID=UTC:20250621T180000
DTSTAMP:20260423T165031
CREATED:20250312T161502Z
LAST-MODIFIED:20250312T161506Z
UID:826-1750518000-1750528800@wildtoads.net
SUMMARY:Private Backyard Party!
DESCRIPTION:We love backyard parties. Really fun hanging out at party time!
URL:https://wildtoads.net/event/private-backyard-party/
LOCATION:Ohio
END:VEVENT
BEGIN:VEVENT
DTSTART;TZID=UTC:20250607T180000
DTEND;TZID=UTC:20250607T210000
DTSTAMP:20260423T165031
CREATED:20241015T132154Z
LAST-MODIFIED:20241015T132204Z
UID:682-1749319200-1749330000@wildtoads.net
SUMMARY:Masonic Lodge Party!
DESCRIPTION:Toadally awesome party tunes with the Masons.
URL:https://wildtoads.net/event/masonic-lodge-party/
LOCATION:Ohio
END:VEVENT
BEGIN:VEVENT
DTSTART;TZID=UTC:20250606T170000
DTEND;TZID=UTC:20250606T200000
DTSTAMP:20260423T165031
CREATED:20241015T133809Z
LAST-MODIFIED:20250414T133938Z
UID:684-1749229200-1749240000@wildtoads.net
SUMMARY:Vinberige Vineyards with Wild Toads!
DESCRIPTION:Summer evening\, food\, tunes and Wine!
URL:https://wildtoads.net/event/vinberige-vineyards-with-wild-toads-3/
LOCATION:Vinberige Vineyards\, 5400 Ohio Highway 204\, Thornville\, Ohio\, 43076\, United States
END:VEVENT
BEGIN:VEVENT
DTSTART;TZID=UTC:20250601T140000
DTEND;TZID=UTC:20250601T180000
DTSTAMP:20260423T165031
CREATED:20250121T170223Z
LAST-MODIFIED:20250121T201201Z
UID:802-1748786400-1748800800@wildtoads.net
SUMMARY:AMVETS Post 51 in Thornport!
DESCRIPTION:The Wild Toads duo will be playing on the patio for Sunday Funday at AMVETS from 2 PM to 6 PM. All are welcome\, you just have to sign in as a guest of the band.
URL:https://wildtoads.net/event/amvets-post-51-in-thornport/
LOCATION:AMVETS POST 51\, 9293 Thorn Twp Rd 79\, Thornville\, Ohio\, 43076\, United States
END:VEVENT
BEGIN:VEVENT
DTSTART;TZID=UTC:20250530T190000
DTEND;TZID=UTC:20250530T220000
DTSTAMP:20260423T165031
CREATED:20250202T231036Z
LAST-MODIFIED:20250202T231105Z
UID:817-1748631600-1748642400@wildtoads.net
SUMMARY:58 West Presents: Wild Toads – Food\, Drink\, Live Music!
DESCRIPTION:Enjoy party music with the WILD TOADS…Great food and drinks in Logan\, OH!!
URL:https://wildtoads.net/event/58-west-presents-wild-toads-food-drink-live-music-5/
LOCATION:58 West\, 58 W. 2nd St.\, Logan\, OH\, 43138\, United States
END:VEVENT
BEGIN:VEVENT
DTSTART;TZID=UTC:20250525T130000
DTEND;TZID=UTC:20250525T160000
DTSTAMP:20260423T165031
CREATED:20250102T155225Z
LAST-MODIFIED:20250520T171639Z
UID:787-1748178000-1748188800@wildtoads.net
SUMMARY:The Island House - Sunday Funday!
DESCRIPTION:Come hang on the patio with the Wild Toads…afternoon tunes and chill time.
URL:https://wildtoads.net/event/the-island-house-sunday-funday/
LOCATION:The Island House\, 2977 Greenlawn Ave NE\, Millersport\, 43046
END:VEVENT
BEGIN:VEVENT
DTSTART;TZID=UTC:20250503T173000
DTEND;TZID=UTC:20250503T203000
DTSTAMP:20260423T165031
CREATED:20241220T181110Z
LAST-MODIFIED:20250503T164828Z
UID:778-1746293400-1746304200@wildtoads.net
SUMMARY:Stoney Ridge Winery
DESCRIPTION:Beautiful estate with home grown wine and cool tunes!
URL:https://wildtoads.net/event/stoney-ridge-winery/
LOCATION:Stoney Ridge Winery\, 7144 Williams Co Rd 16\, Bryan\, Ohio\, 43506\, United States
END:VEVENT
BEGIN:VEVENT
DTSTART;TZID=UTC:20250426T170000
DTEND;TZID=UTC:20250426T200000
DTSTAMP:20260423T165031
CREATED:20240831T183204Z
LAST-MODIFIED:20250414T132006Z
UID:610-1745686800-1745697600@wildtoads.net
SUMMARY:Vinberige Vinyards
DESCRIPTION:Enjoy live music with Wild Toads!
URL:https://wildtoads.net/event/vinberige-vinyards-2/
LOCATION:Vinberige Vineyards\, 5400 Ohio Highway 204\, Thornville\, 43739
END:VEVENT
BEGIN:VEVENT
DTSTART;TZID=UTC:20250418T190000
DTEND;TZID=UTC:20250418T220000
DTSTAMP:20260423T165031
CREATED:20241106T172350Z
LAST-MODIFIED:20250414T131316Z
UID:738-1745002800-1745013600@wildtoads.net
SUMMARY:Fat Cat Pizza with Wild Toads!
DESCRIPTION:Kick off the weekend celebrations with Tunes\, Beer\, and Pizza…
URL:https://wildtoads.net/event/fat-cat-pizza-with-wild-toads-2/
LOCATION:Fat Cat Pizza\, 1448 Ety Pointe Dr NW\, Lancaster\, Ohio\, 43130\, United States
END:VEVENT
BEGIN:VEVENT
DTSTART;TZID=UTC:20250314T200000
DTEND;TZID=UTC:20250314T230000
DTSTAMP:20260423T165031
CREATED:20241210T182051Z
LAST-MODIFIED:20241210T182054Z
UID:761-1741982400-1741993200@wildtoads.net
SUMMARY:Old Bill Bailey's and Wild Toads!
DESCRIPTION:This is such a cool place in Lancaster. Great venue to watch music and party with friends! Good food too. The Wild Toads love playing Old Bill Bailey’s!
URL:https://wildtoads.net/event/old-bill-baileys-and-wild-toads/
LOCATION:Old Bill Bailey’s\, 200 Harrison Ave\, Lancaster\, Ohio\, United States
END:VEVENT
BEGIN:VEVENT
DTSTART;TZID=UTC:20250228T190000
DTEND;TZID=UTC:20250228T220000
DTSTAMP:20260423T165031
CREATED:20241106T175634Z
LAST-MODIFIED:20241106T194503Z
UID:742-1740769200-1740780000@wildtoads.net
SUMMARY:Mill Dam Corner Grille
DESCRIPTION:The Mill Dam is an awesome local spot for good food and drinks. \n\n\n\n\n\n\n\nThe Wild Toads will perform inside…nice and warm. Get a buzz\, a burger\, and some tunes with us!
URL:https://wildtoads.net/event/mill-dam-corner-grille/
LOCATION:Mill Dam Corner Grille\, 3982 National Rd SE\, Hebron\, Ohio\, 43025\, United States
END:VEVENT
BEGIN:VEVENT
DTSTART;TZID=UTC:20250219T170000
DTEND;TZID=UTC:20250219T200000
DTSTAMP:20260423T165031
CREATED:20241101T192907Z
LAST-MODIFIED:20250206T182649Z
UID:722-1739984400-1739995200@wildtoads.net
SUMMARY:Thiago's Italian Kitchen and Bar
DESCRIPTION:Hump Day dinner and cocktails with the Wild Toads!
URL:https://wildtoads.net/event/thiagos-italian-kitchen-and-bar/
LOCATION:Thiago’s Italian Kitchen and Bar\, 609 Mill St\,\, New Lexington
END:VEVENT
BEGIN:VEVENT
DTSTART;TZID=UTC:20250201T190000
DTEND;TZID=UTC:20250201T220000
DTSTAMP:20260423T165031
CREATED:20241106T171020Z
LAST-MODIFIED:20241106T185601Z
UID:734-1738436400-1738447200@wildtoads.net
SUMMARY:Fat Cat Pizza with Wild Toads!
DESCRIPTION:We are really excited play Fat Cat again…great pizza place with a perfect set up for live music!
URL:https://wildtoads.net/event/fat-cat-pizza-with-wild-toads/
LOCATION:Fat Cat Pizza\, 1448 Ety Pointe Dr NW\, Lancaster\, Ohio\, 43130\, United States
END:VEVENT
BEGIN:VEVENT
DTSTART;TZID=UTC:20241017T173000
DTEND;TZID=UTC:20241017T200000
DTSTAMP:20260423T165031
CREATED:20240923T191408Z
LAST-MODIFIED:20240923T191900Z
UID:670-1729186200-1729195200@wildtoads.net
SUMMARY:Blue Heron Presents Wild Toads!
DESCRIPTION:Live music and amazing food!
URL:https://wildtoads.net/event/blue-heron-presents-wild-toads-2/
LOCATION:Blue Heron\, 10880 Mill Dam Rd\, Hebron\, Ohio\, 43025\, United States
END:VEVENT
BEGIN:VEVENT
DTSTART;TZID=UTC:20241011T170000
DTEND;TZID=UTC:20241011T200000
DTSTAMP:20260423T165031
CREATED:20240706T161133Z
LAST-MODIFIED:20240706T161136Z
UID:592-1728666000-1728676800@wildtoads.net
SUMMARY:Vinberige Vineyards with Wild Toads!
DESCRIPTION:Beautiful historic farm house turned winery!
URL:https://wildtoads.net/event/vinberige-vineyards-with-wild-toads-2/
LOCATION:Vinberige Vineyards\, 5400 Ohio Highway 204\, Thornville\, 43739
END:VEVENT
BEGIN:VEVENT
DTSTART;TZID=UTC:20241004T180000
DTEND;TZID=UTC:20241004T210000
DTSTAMP:20260423T165031
CREATED:20231220T231146Z
LAST-MODIFIED:20231220T231150Z
UID:424-1728064800-1728075600@wildtoads.net
SUMMARY:Brewery 33 Presents: Wild Toads - Music\, Food\, Fun!
DESCRIPTION:Come enjoy the fall leaves with BEER and LIVE MUSIC! \n\n\n\n\n12684 College Prospect Dr. \nLogan\n\, OH\n 43138United States\n\n\n\n(740) 385-6033
URL:https://wildtoads.net/event/brewery-33-presents-wild-toads-music-food-fun-2/
LOCATION:Ohio
END:VEVENT
BEGIN:VEVENT
DTSTART;TZID=UTC:20240927T190000
DTEND;TZID=UTC:20240927T220000
DTSTAMP:20260423T165031
CREATED:20240716T190532Z
LAST-MODIFIED:20240716T191012Z
UID:595-1727463600-1727474400@wildtoads.net
SUMMARY:Fat Cat Pizza presents Wild Toads!
DESCRIPTION:
URL:https://wildtoads.net/event/fat-cat-pizza-presents-wild-toads/
LOCATION:Fat Cat Pizza\, 1448 Ety Pointe Dr NW\, Lancaster\, Ohio\, 43130\, United States
END:VEVENT
BEGIN:VEVENT
DTSTART;TZID=UTC:20240913T200000
DTEND;TZID=UTC:20240913T230000
DTSTAMP:20260423T165031
CREATED:20240507T175817Z
LAST-MODIFIED:20240507T175819Z
UID:541-1726257600-1726268400@wildtoads.net
SUMMARY:Live at Old Bill Bailey's!
DESCRIPTION:Join the Wild Toads for some tunes\, brews\, and good food!
URL:https://wildtoads.net/event/live-at-old-bill-baileys/
LOCATION:Old Bill Bailey’s\, 200 Harrison Ave\, Lancaster\, Ohio\, United States
END:VEVENT
BEGIN:VEVENT
DTSTART;TZID=UTC:20240906T190000
DTEND;TZID=UTC:20240906T220000
DTSTAMP:20260423T165031
CREATED:20240410T205034Z
LAST-MODIFIED:20240410T205043Z
UID:529-1725649200-1725660000@wildtoads.net
SUMMARY:Trotter’s Presents: Wild Toads Live!
DESCRIPTION:Enjoy live music and great food with the Wild Toads in New Lex!
URL:https://wildtoads.net/event/trotters-presents-wild-toads-live-2/
LOCATION:Trotter’s Pub and Grill\, 123 N Main St\, New Lexington\, Ohio\, 43764\, United States
END:VEVENT
BEGIN:VEVENT
DTSTART;TZID=UTC:20240825T160000
DTEND;TZID=UTC:20240825T190000
DTSTAMP:20260423T165031
CREATED:20240706T160710Z
LAST-MODIFIED:20240716T185657Z
UID:590-1724601600-1724612400@wildtoads.net
SUMMARY:Vinberige Vineyards with Wild Toads!
DESCRIPTION:Beautiful historic farm turned winery!
URL:https://wildtoads.net/event/vinberige-vineyards-with-wild-toads/
LOCATION:Vinberige Vineyards\, 5400 Ohio Highway 204\, Thornville\, 43739
END:VEVENT
BEGIN:VEVENT
DTSTART;TZID=UTC:20240816T173000
DTEND;TZID=UTC:20240816T203000
DTSTAMP:20260423T165031
CREATED:20240724T180558Z
LAST-MODIFIED:20240724T180630Z
UID:600-1723829400-1723840200@wildtoads.net
SUMMARY:Valley View Hills Winery presents Wild Toads live!
DESCRIPTION:Have some dinner\, some wine\, and some summer evening live music!
URL:https://wildtoads.net/event/valley-view-hills-winery-presents-wild-toads-live/
LOCATION:Valley View Hills Winery\, 29176 Klump Rd\, Sugar Grove\, Ohio\, 43155
END:VEVENT
END:VCALENDAR